BEGIN:VCALENDAR
VERSION:2.0
PRODID:-//Leftovers Foundation - ECPv6.15.20//NONSGML v1.0//EN
CALSCALE:GREGORIAN
METHOD:PUBLISH
X-ORIGINAL-URL:https://rescuefood.ca
X-WR-CALDESC:Events for Leftovers Foundation
REFRESH-INTERVAL;VALUE=DURATION:PT1H
X-Robots-Tag:noindex
X-PUBLISHED-TTL:PT1H
BEGIN:VTIMEZONE
TZID:America/Edmonton
BEGIN:DAYLIGHT
TZOFFSETFROM:-0700
TZOFFSETTO:-0600
TZNAME:MDT
DTSTART:20240310T090000
END:DAYLIGHT
BEGIN:STANDARD
TZOFFSETFROM:-0600
TZOFFSETTO:-0700
TZNAME:MST
DTSTART:20241103T080000
END:STANDARD
BEGIN:DAYLIGHT
TZOFFSETFROM:-0700
TZOFFSETTO:-0600
TZNAME:MDT
DTSTART:20250309T090000
END:DAYLIGHT
BEGIN:STANDARD
TZOFFSETFROM:-0600
TZOFFSETTO:-0700
TZNAME:MST
DTSTART:20251102T080000
END:STANDARD
BEGIN:DAYLIGHT
TZOFFSETFROM:-0700
TZOFFSETTO:-0600
TZNAME:MDT
DTSTART:20260308T090000
END:DAYLIGHT
BEGIN:STANDARD
TZOFFSETFROM:-0600
TZOFFSETTO:-0700
TZNAME:MST
DTSTART:20261101T080000
END:STANDARD
BEGIN:DAYLIGHT
TZOFFSETFROM:-0700
TZOFFSETTO:-0600
TZNAME:MDT
DTSTART:20270314T090000
END:DAYLIGHT
BEGIN:STANDARD
TZOFFSETFROM:-0600
TZOFFSETTO:-0700
TZNAME:MST
DTSTART:20271107T080000
END:STANDARD
END:VTIMEZONE
BEGIN:VEVENT
DTSTART;TZID=America/Edmonton:20260209T130000
DTEND;TZID=America/Edmonton:20260209T160000
DTSTAMP:20260419T061850
CREATED:20260203T225356Z
LAST-MODIFIED:20260203T225357Z
UID:10933-1770642000-1770652800@rescuefood.ca
SUMMARY:Calgary Volunteer Appreciation Event
DESCRIPTION:Calgary! We will be hosting a Volunteer Appreciation Event on Monday\, February 9th 🧡 \nWhether you have volunteered once\, many times\, for years or are just curious\, JOIN US! \nThere will be veggies ‘n dip\, cookies\, and coffee/tea for you to enjoy throughout the event. You’re welcome to stay for a while\, or to just drop in. ☕ \nWe’ll also be drawing names for 3 Co-op gift cards! ✨ \n📅 Monday\, February 9th\n🕐 1 – 4pm\n📍 Leftovers Warehouse\n#4 1925 39 Ave NE\nCalgary\, AB T2E 6S8 \nLimited parking is available at the front\, and more spots available along the fence in the back. \nIf you plan to attend\, please RSVP at colin@rescuefood.ca!
URL:https://rescuefood.ca/event/calgary-volunteer-appreciation-event-2/
LOCATION:Leftovers Calgary Warehouse\, Unit 4\, 1925 39 Ave NE\, Calgary\, AB\, T2E 6W7\, Canada
CATEGORIES:Calgary,Volunteer Appreciation
END:VEVENT
BEGIN:VEVENT
DTSTART;VALUE=DATE:20251106
DTEND;VALUE=DATE:20251117
DTSTAMP:20260419T061850
CREATED:20251113T175627Z
LAST-MODIFIED:20251113T175627Z
UID:10707-1762387200-1763337599@rescuefood.ca
SUMMARY:2025 YYC Noodle Festival
DESCRIPTION:The YYC Noodle Festival is back for its third year\, running from November 6-16! \nThis isn’t just another restaurant festival. It’s all about showcasing the best of Asian cuisine and heritage while bringing people together to support important causes. \nThis year\, 24 incredible restaurants are competing while supporting Leftovers! From ramen to pho to fusion noodles\, there’s something for every noodle lover. \nYYC Noodle Festival is co-organized by Hung’s Noodle Factory\, Roots Collective and Mach Media\, who are committed to giving back to the community. This year\, they’re partnering with the Leftovers Foundation as their 2025 charity beneficiary. \nJoin us in celebrating noodles and making a positive impact! \nyycnoodlefestival.com
URL:https://rescuefood.ca/event/2025-yyc-noodle-festival/
LOCATION:AB
CATEGORIES:Calgary,Fundraisers,In Our Community
END:VEVENT
BEGIN:VEVENT
DTSTART;TZID=America/Edmonton:20250924T180000
DTEND;TZID=America/Edmonton:20250924T210000
DTSTAMP:20260419T061850
CREATED:20250808T223527Z
LAST-MODIFIED:20250815T203231Z
UID:10340-1758736800-1758747600@rescuefood.ca
SUMMARY:Calgary Food Rescue FUN-raiser! 2025
DESCRIPTION:Join us on September 24th for a fun evening of delicious food and dazzling performances from Canada’s Broadway Diner at Two House Brewing Co.! \nAll funds raised will support the continuation of our Rescue Food operations in Calgary. \n✦ Pizza Buffet\n✦ Cash Bar\n✦ Live Music\n✦ Silent Auction\n✦ 50/50\n \nGet your tickets now at rescueraiser.ca/yyc \n\nAbout Canada’s Broadway Diner: \nMegan Kerrigan – (she/her) is a Calgary-based musical theatre performer from Southern California with a passion for storytelling through song\, dance\, and character-driven performance. You can catch her in Honest Collective’s upcoming production of Rent! She was recently nominated for a CAT Award for Best Actress in a Musical for her portrayal of Sophie in Mamma Mia! and has played a variety of powerhouse roles\, including Elle Woods in Legally Blonde\, Maggie in A Chorus Line\, Heather Duke in Heathers\, and Rusty in Footloose. Megan’s love for theatre extends beyond the stage—she co-founded Canada’s Broadway Diner\, a unique dinner theatre company where audiences can enjoy incredible food while being serenaded with Broadway hits. One of their most popular recurring shows? The Dancing Queen Dining Experience where she and her best friend (and former Donna) bring the music of Mamma Mia! to life all over again! \nLyndsey Patterson – (she/her) has been performing since she first played the Scarecrow in The Wizard of Oz in grade 6 and has been chasing the dream ever since! Most recent credits include Sheila Bryant in A Chorus Line and Margaret White in Carrie\, for which she was nominated at the CAT Awards for Best Actor in a Leading Role. She’s also played Donna Sheridan in Mamma Mia—one of her bucket list roles—and one day\, she hopes to be Velma in Chicago! Catch Lyndsey trying to sing any chance she gets\, most recently with Tonic Band. As always\, she thanks her friends and family for supporting her all these years. Life is A Cabaret!\n \nFollow Canada’s Broadway Diner on Instagram!
URL:https://rescuefood.ca/event/calgary-food-rescue-fun-raiser-2025/
LOCATION:Two House Brewing Taproom + Pizza\, 1901 10 Ave SW\, Calgary\, AB\, T3C 0K3\, Canada
CATEGORIES:Calgary,Fundraisers
END:VEVENT
BEGIN:VEVENT
DTSTART;VALUE=DATE:20250908
DTEND;VALUE=DATE:20250910
DTSTAMP:20260419T061850
CREATED:20250912T190951Z
LAST-MODIFIED:20250912T190951Z
UID:10478-1757289600-1757462399@rescuefood.ca
SUMMARY:NEXT Food Expo 2025
DESCRIPTION:Leftovers will be participating in the NEXT Food Expo as an exhibitor! Our Calgary City Coordinator will also be a panellist for Beyond Waste: Turning Challenges into Sustainable Opportunities. \nNEXT Food Expo is Canada’s new B2B event built for what’s next in food\, beverage\, tech & equipment. It is designed for chefs\, restaurateurs\, hoteliers\, bartenders\, buyers and food industry pros looking to discover\, connect and grow in Western Canada’s fast-evolving market.
URL:https://rescuefood.ca/event/next-food-expo-2025/
LOCATION:BMO Centre\, 1912 Flores Ladue Parade SE\, Calgary\, AB\, T2G 2W1\, Canada
CATEGORIES:Calgary,In Our Community
END:VEVENT
BEGIN:VEVENT
DTSTART;TZID=America/Edmonton:20250816T110000
DTEND;TZID=America/Edmonton:20250816T190000
DTSTAMP:20260419T061850
CREATED:20250814T185532Z
LAST-MODIFIED:20250814T221657Z
UID:10401-1755342000-1755370800@rescuefood.ca
SUMMARY:TD Chinatown Street Festival
DESCRIPTION:We’re joining YYC Noodle Festival at the 2025 Calgary Chinatown Street Festival! \nThe 2025 Calgary Chinatown Street Festival takes place from 11:00 AM to 7:00 PM in the heart of Chinatown at 3 Ave & 1 Street SE and Lot 26. Hosted by the Calgary Chinatown Business Improvement Area\, this one-day event will feature cultural sharing\, local vendors\, food\, live performances\, and family-friendly activities. Don’t miss the Lion & Dragon Dance at 11:45 AM\, the official opening ceremony at 12:00 PM\, and stage performances starting around 1:00 PM. The festival is free to attend\, pet friendly\, and fun for the whole family!
URL:https://rescuefood.ca/event/td-chinatown-street-festival/
LOCATION:Chinatown\, 1st St SE & 3 Ave SE\, Calgary\, AB\, T2G 4X3\, Canada
CATEGORIES:Calgary,In Our Community
END:VEVENT
END:VCALENDAR