BEGIN:VCALENDAR
VERSION:2.0
PRODID:-//Leftovers Foundation - ECPv6.15.20//NONSGML v1.0//EN
CALSCALE:GREGORIAN
METHOD:PUBLISH
X-WR-CALNAME:Leftovers Foundation
X-ORIGINAL-URL:https://rescuefood.ca
X-WR-CALDESC:Events for Leftovers Foundation
REFRESH-INTERVAL;VALUE=DURATION:PT1H
X-Robots-Tag:noindex
X-PUBLISHED-TTL:PT1H
BEGIN:VTIMEZONE
TZID:America/Winnipeg
BEGIN:DAYLIGHT
TZOFFSETFROM:-0600
TZOFFSETTO:-0500
TZNAME:CDT
DTSTART:20220313T080000
END:DAYLIGHT
BEGIN:STANDARD
TZOFFSETFROM:-0500
TZOFFSETTO:-0600
TZNAME:CST
DTSTART:20221106T070000
END:STANDARD
BEGIN:DAYLIGHT
TZOFFSETFROM:-0600
TZOFFSETTO:-0500
TZNAME:CDT
DTSTART:20230312T080000
END:DAYLIGHT
BEGIN:STANDARD
TZOFFSETFROM:-0500
TZOFFSETTO:-0600
TZNAME:CST
DTSTART:20231105T070000
END:STANDARD
BEGIN:DAYLIGHT
TZOFFSETFROM:-0600
TZOFFSETTO:-0500
TZNAME:CDT
DTSTART:20240310T080000
END:DAYLIGHT
BEGIN:STANDARD
TZOFFSETFROM:-0500
TZOFFSETTO:-0600
TZNAME:CST
DTSTART:20241103T070000
END:STANDARD
BEGIN:DAYLIGHT
TZOFFSETFROM:-0600
TZOFFSETTO:-0500
TZNAME:CDT
DTSTART:20250309T080000
END:DAYLIGHT
BEGIN:STANDARD
TZOFFSETFROM:-0500
TZOFFSETTO:-0600
TZNAME:CST
DTSTART:20251102T070000
END:STANDARD
BEGIN:DAYLIGHT
TZOFFSETFROM:-0600
TZOFFSETTO:-0500
TZNAME:CDT
DTSTART:20260308T080000
END:DAYLIGHT
BEGIN:STANDARD
TZOFFSETFROM:-0500
TZOFFSETTO:-0600
TZNAME:CST
DTSTART:20261101T070000
END:STANDARD
BEGIN:DAYLIGHT
TZOFFSETFROM:-0600
TZOFFSETTO:-0500
TZNAME:CDT
DTSTART:20270314T080000
END:DAYLIGHT
BEGIN:STANDARD
TZOFFSETFROM:-0500
TZOFFSETTO:-0600
TZNAME:CST
DTSTART:20271107T070000
END:STANDARD
END:VTIMEZONE
BEGIN:VTIMEZONE
TZID:America/Edmonton
BEGIN:DAYLIGHT
TZOFFSETFROM:-0700
TZOFFSETTO:-0600
TZNAME:MDT
DTSTART:20220313T090000
END:DAYLIGHT
BEGIN:STANDARD
TZOFFSETFROM:-0600
TZOFFSETTO:-0700
TZNAME:MST
DTSTART:20221106T080000
END:STANDARD
BEGIN:DAYLIGHT
TZOFFSETFROM:-0700
TZOFFSETTO:-0600
TZNAME:MDT
DTSTART:20230312T090000
END:DAYLIGHT
BEGIN:STANDARD
TZOFFSETFROM:-0600
TZOFFSETTO:-0700
TZNAME:MST
DTSTART:20231105T080000
END:STANDARD
BEGIN:DAYLIGHT
TZOFFSETFROM:-0700
TZOFFSETTO:-0600
TZNAME:MDT
DTSTART:20240310T090000
END:DAYLIGHT
BEGIN:STANDARD
TZOFFSETFROM:-0600
TZOFFSETTO:-0700
TZNAME:MST
DTSTART:20241103T080000
END:STANDARD
BEGIN:DAYLIGHT
TZOFFSETFROM:-0700
TZOFFSETTO:-0600
TZNAME:MDT
DTSTART:20250309T090000
END:DAYLIGHT
BEGIN:STANDARD
TZOFFSETFROM:-0600
TZOFFSETTO:-0700
TZNAME:MST
DTSTART:20251102T080000
END:STANDARD
BEGIN:DAYLIGHT
TZOFFSETFROM:-0700
TZOFFSETTO:-0600
TZNAME:MDT
DTSTART:20260308T090000
END:DAYLIGHT
BEGIN:STANDARD
TZOFFSETFROM:-0600
TZOFFSETTO:-0700
TZNAME:MST
DTSTART:20261101T080000
END:STANDARD
END:VTIMEZONE
BEGIN:VEVENT
DTSTART;TZID=America/Winnipeg:20260420T180000
DTEND;TZID=America/Winnipeg:20260420T191500
DTSTAMP:20260421T061018
CREATED:20260421T041017Z
LAST-MODIFIED:20260421T043235Z
UID:11084-1776708000-1776712500@rescuefood.ca
SUMMARY:Karma Class - Modo Yoga Donald Studio
DESCRIPTION:To celebrate Earth Month\, Modo Yoga Winnipeg is partnering with Leftovers! \nYou can practice yoga at Modo Yoga’s studios for $10 with Karma classes at both the Donald and Waverley locations. \nKarma Classes are donation-based classes to raise funds for local organizations\, such as Leftovers!
URL:https://rescuefood.ca/event/karma-class-modo-yoga-donald-studio-5/
LOCATION:Modo Yoga Winnipeg On Donald\, 2 Donald St #7\, Winnipeg\, MB\, R3L 0L3\, Canada
CATEGORIES:Fundraisers,Winnipeg
END:VEVENT
BEGIN:VEVENT
DTSTART;TZID=America/Winnipeg:20260417T200000
DTEND;TZID=America/Winnipeg:20260417T210000
DTSTAMP:20260421T061018
CREATED:20260421T043027Z
LAST-MODIFIED:20260421T043230Z
UID:11102-1776456000-1776459600@rescuefood.ca
SUMMARY:Karma Class - Modo Yoga Donald Studio
DESCRIPTION:To celebrate Earth Month\, Modo Yoga Winnipeg is partnering with Leftovers! \nYou can practice yoga at Modo Yoga’s studios for $10 with Karma classes at both the Donald and Waverley locations. \nKarma Classes are donation-based classes to raise funds for local organizations\, such as Leftovers!
URL:https://rescuefood.ca/event/karma-class-modo-yoga-donald-studio-4/
LOCATION:Modo Yoga Winnipeg On Donald\, 2 Donald St #7\, Winnipeg\, MB\, R3L 0L3\, Canada
CATEGORIES:Fundraisers,Winnipeg
END:VEVENT
BEGIN:VEVENT
DTSTART;TZID=America/Winnipeg:20260415T164500
DTEND;TZID=America/Winnipeg:20260415T174500
DTSTAMP:20260421T061018
CREATED:20260421T043844Z
LAST-MODIFIED:20260421T043844Z
UID:11112-1776271500-1776275100@rescuefood.ca
SUMMARY:Karma Class - Modo Yoga Waverley Studio
DESCRIPTION:To celebrate Earth Month\, Modo Yoga Winnipeg is partnering with Leftovers! \nYou can practice yoga at Modo Yoga’s studios for $10 with Karma classes at both the Donald and Waverley locations. \nKarma Classes are donation-based classes to raise funds for local organizations\, such as Leftovers!
URL:https://rescuefood.ca/event/karma-class-modo-yoga-waverley-studio-3/
LOCATION:Modo Yoga Winnipeg On Waverley\, 1090 Waverley St #100\, Winnipeg\, MB\, R3T 0P4\, Canada
CATEGORIES:Fundraisers,Winnipeg
END:VEVENT
BEGIN:VEVENT
DTSTART;TZID=America/Winnipeg:20260413T180000
DTEND;TZID=America/Winnipeg:20260413T191500
DTSTAMP:20260421T061018
CREATED:20260421T041456Z
LAST-MODIFIED:20260421T043225Z
UID:11092-1776103200-1776107700@rescuefood.ca
SUMMARY:Karma Class - Modo Yoga Donald Studio
DESCRIPTION:To celebrate Earth Month\, Modo Yoga Winnipeg is partnering with Leftovers! \nYou can practice yoga at Modo Yoga’s studios for $10 with Karma classes at both the Donald and Waverley locations. \nKarma Classes are donation-based classes to raise funds for local organizations\, such as Leftovers!
URL:https://rescuefood.ca/event/karma-class-modo-yoga-donald-studio-3/
LOCATION:Modo Yoga Winnipeg On Donald\, 2 Donald St #7\, Winnipeg\, MB\, R3L 0L3\, Canada
CATEGORIES:Fundraisers,Winnipeg
END:VEVENT
BEGIN:VEVENT
DTSTART;TZID=America/Winnipeg:20260410T200000
DTEND;TZID=America/Winnipeg:20260410T210000
DTSTAMP:20260421T061018
CREATED:20260421T043148Z
LAST-MODIFIED:20260421T043148Z
UID:11104-1775851200-1775854800@rescuefood.ca
SUMMARY:Karma Class - Modo Yoga Donald Studio
DESCRIPTION:To celebrate Earth Month\, Modo Yoga Winnipeg is partnering with Leftovers! \nYou can practice yoga at Modo Yoga’s studios for $10 with Karma classes at both the Donald and Waverley locations. \nKarma Classes are donation-based classes to raise funds for local organizations\, such as Leftovers!
URL:https://rescuefood.ca/event/karma-class-modo-yoga-donald-studio-2/
LOCATION:Modo Yoga Winnipeg On Donald\, 2 Donald St #7\, Winnipeg\, MB\, R3L 0L3\, Canada
CATEGORIES:Fundraisers,Winnipeg
END:VEVENT
BEGIN:VEVENT
DTSTART;TZID=America/Winnipeg:20260408T164500
DTEND;TZID=America/Winnipeg:20260408T174500
DTSTAMP:20260421T061018
CREATED:20260421T043752Z
LAST-MODIFIED:20260421T043752Z
UID:11110-1775666700-1775670300@rescuefood.ca
SUMMARY:Karma Class - Modo Yoga Waverley Studio
DESCRIPTION:To celebrate Earth Month\, Modo Yoga Winnipeg is partnering with Leftovers! \nYou can practice yoga at Modo Yoga’s studios for $10 with Karma classes at both the Donald and Waverley locations. \nKarma Classes are donation-based classes to raise funds for local organizations\, such as Leftovers!
URL:https://rescuefood.ca/event/karma-class-modo-yoga-waverley-studio-2/
LOCATION:Modo Yoga Winnipeg On Waverley\, 1090 Waverley St #100\, Winnipeg\, MB\, R3T 0P4\, Canada
CATEGORIES:Fundraisers,Winnipeg
END:VEVENT
BEGIN:VEVENT
DTSTART;TZID=America/Winnipeg:20260406T180000
DTEND;TZID=America/Winnipeg:20260406T191500
DTSTAMP:20260421T061018
CREATED:20260421T041551Z
LAST-MODIFIED:20260421T042553Z
UID:11094-1775498400-1775502900@rescuefood.ca
SUMMARY:Karma Class - Modo Yoga Donald Studio
DESCRIPTION:To celebrate Earth Month\, Modo Yoga Winnipeg is partnering with Leftovers! \nYou can practice yoga at Modo Yoga’s studios for $10 with Karma classes at both the Donald and Waverley locations. \nKarma Classes are donation-based classes to raise funds for local organizations\, such as Leftovers!
URL:https://rescuefood.ca/event/karma-class-modo-yoga-donald-studio-1/
LOCATION:Modo Yoga Winnipeg On Donald\, 2 Donald St #7\, Winnipeg\, MB\, R3L 0L3\, Canada
CATEGORIES:Fundraisers,Winnipeg
END:VEVENT
BEGIN:VEVENT
DTSTART;TZID=America/Winnipeg:20260401T164500
DTEND;TZID=America/Winnipeg:20260401T174500
DTSTAMP:20260421T061018
CREATED:20260421T043711Z
LAST-MODIFIED:20260421T043711Z
UID:11107-1775061900-1775065500@rescuefood.ca
SUMMARY:Karma Class - Modo Yoga Waverley Studio
DESCRIPTION:To celebrate Earth Month\, Modo Yoga Winnipeg is partnering with Leftovers! \nYou can practice yoga at Modo Yoga’s studios for $10 with Karma classes at both the Donald and Waverley locations. \nKarma Classes are donation-based classes to raise funds for local organizations\, such as Leftovers!
URL:https://rescuefood.ca/event/karma-class-modo-yoga-waverley-studio-1/
LOCATION:Modo Yoga Winnipeg On Waverley\, 1090 Waverley St #100\, Winnipeg\, MB\, R3T 0P4\, Canada
CATEGORIES:Fundraisers,Winnipeg
END:VEVENT
BEGIN:VEVENT
DTSTART;TZID=America/Winnipeg:20260228T160000
DTEND;TZID=America/Winnipeg:20260228T190000
DTSTAMP:20260421T061018
CREATED:20251223T190009Z
LAST-MODIFIED:20251223T211840Z
UID:10815-1772294400-1772305200@rescuefood.ca
SUMMARY:Coldest Night of the Year 2026 - Winnipeg North End
DESCRIPTION:❄️ Walk with Us on the Coldest Night of the Year! ❄️\nWe’re looking for Team Captains\, Walkers\, and Sponsors to sign up and help us make a difference! Together\, we can raise funds and awareness to fight food insecurity and support our community. 💙 \n🗓️ Date: February 28\, 2026\n📍 Location:\nSergeant Tommy Prince Place\n90 Sinclair St\nWinnipeg\, MB R2X 3C7 \nLet’s step out into the cold to share warmth\, hope\, and support with those who need it most. 🌟 \nNot located in Winnipeg? You can still participate and walk your own route off-site while raising funds! \n👉 Sign up today at cnoy.org/location/winnipegnorthend
URL:https://rescuefood.ca/event/coldest-night-of-the-year-2026-winnipeg-north-end/
LOCATION:Sergeant Tommy Prince Place\, 90 Sinclair St\, Winnipeg\, MB\, R2X 3C7\, Canada
CATEGORIES:Fundraisers,Winnipeg
END:VEVENT
BEGIN:VEVENT
DTSTART;VALUE=DATE:20251106
DTEND;VALUE=DATE:20251117
DTSTAMP:20260421T061018
CREATED:20251113T175627Z
LAST-MODIFIED:20251113T175627Z
UID:10707-1762387200-1763337599@rescuefood.ca
SUMMARY:2025 YYC Noodle Festival
DESCRIPTION:The YYC Noodle Festival is back for its third year\, running from November 6-16! \nThis isn’t just another restaurant festival. It’s all about showcasing the best of Asian cuisine and heritage while bringing people together to support important causes. \nThis year\, 24 incredible restaurants are competing while supporting Leftovers! From ramen to pho to fusion noodles\, there’s something for every noodle lover. \nYYC Noodle Festival is co-organized by Hung’s Noodle Factory\, Roots Collective and Mach Media\, who are committed to giving back to the community. This year\, they’re partnering with the Leftovers Foundation as their 2025 charity beneficiary. \nJoin us in celebrating noodles and making a positive impact! \nyycnoodlefestival.com
URL:https://rescuefood.ca/event/2025-yyc-noodle-festival/
LOCATION:MB
CATEGORIES:Calgary,Fundraisers,In Our Community
END:VEVENT
BEGIN:VEVENT
DTSTART;TZID=America/Edmonton:20251028T180000
DTEND;TZID=America/Edmonton:20251028T210000
DTSTAMP:20260421T061018
CREATED:20250912T192004Z
LAST-MODIFIED:20250912T192407Z
UID:10482-1761674400-1761685200@rescuefood.ca
SUMMARY:Winnipeg Food Rescue FUN-raiser! 2025
DESCRIPTION:Join us on October 28th for the 3rd Annual Food Rescue FUN-raiser in Winnipeg! \nWe are so excited to be welcoming special guests CAR287 to the stage again this year for a night of delicious pizza\, great music\, and spooky FUN! \nCome in costume and celebrate the season with us\, because nothing is scarier than food waste! \nAll funds raised will support the continuation of our Rescue Food operations in Winnipeg. \n🦇 Pizza Buffet\n🦇 Cash Bar\n🦇 Live Music\n🦇 Raffle\n🦇 50/50\n🦇 Costume Contest\n \nGet your tickets now at rescueraiser.ca/ywg \n\nAbout CAR287: \n \nCAR287 is a rock band from Winnipeg known for their powerful harmonies\, driving drums\, and vivid storytelling. Blending classic rock roots with a modern edge\, their original songs capture life\, nostalgia\, and the spirit of the Canadian prairies. With dynamic live shows that ignite audiences\, CAR287 is carving out a bold new sound for Canadian rock. \nFollow CAR287 on Instagram!
URL:https://rescuefood.ca/event/winnipeg-food-rescue-fun-raiser-2025/
LOCATION:Trans Canada Brewing Co.\, 1290 Kenaston Blvd #1\, Winnipeg\, MB\, R3P 0R7\, Canada
CATEGORIES:Fundraisers,Winnipeg
END:VEVENT
BEGIN:VEVENT
DTSTART;TZID=America/Edmonton:20250924T180000
DTEND;TZID=America/Edmonton:20250924T210000
DTSTAMP:20260421T061018
CREATED:20250808T223527Z
LAST-MODIFIED:20250815T203231Z
UID:10340-1758736800-1758747600@rescuefood.ca
SUMMARY:Calgary Food Rescue FUN-raiser! 2025
DESCRIPTION:Join us on September 24th for a fun evening of delicious food and dazzling performances from Canada’s Broadway Diner at Two House Brewing Co.! \nAll funds raised will support the continuation of our Rescue Food operations in Calgary. \n✦ Pizza Buffet\n✦ Cash Bar\n✦ Live Music\n✦ Silent Auction\n✦ 50/50\n \nGet your tickets now at rescueraiser.ca/yyc \n\nAbout Canada’s Broadway Diner: \nMegan Kerrigan – (she/her) is a Calgary-based musical theatre performer from Southern California with a passion for storytelling through song\, dance\, and character-driven performance. You can catch her in Honest Collective’s upcoming production of Rent! She was recently nominated for a CAT Award for Best Actress in a Musical for her portrayal of Sophie in Mamma Mia! and has played a variety of powerhouse roles\, including Elle Woods in Legally Blonde\, Maggie in A Chorus Line\, Heather Duke in Heathers\, and Rusty in Footloose. Megan’s love for theatre extends beyond the stage—she co-founded Canada’s Broadway Diner\, a unique dinner theatre company where audiences can enjoy incredible food while being serenaded with Broadway hits. One of their most popular recurring shows? The Dancing Queen Dining Experience where she and her best friend (and former Donna) bring the music of Mamma Mia! to life all over again! \nLyndsey Patterson – (she/her) has been performing since she first played the Scarecrow in The Wizard of Oz in grade 6 and has been chasing the dream ever since! Most recent credits include Sheila Bryant in A Chorus Line and Margaret White in Carrie\, for which she was nominated at the CAT Awards for Best Actor in a Leading Role. She’s also played Donna Sheridan in Mamma Mia—one of her bucket list roles—and one day\, she hopes to be Velma in Chicago! Catch Lyndsey trying to sing any chance she gets\, most recently with Tonic Band. As always\, she thanks her friends and family for supporting her all these years. Life is A Cabaret!\n \nFollow Canada’s Broadway Diner on Instagram!
URL:https://rescuefood.ca/event/calgary-food-rescue-fun-raiser-2025/
LOCATION:Two House Brewing Taproom + Pizza\, 1901 10 Ave SW\, Calgary\, AB\, T3C 0K3\, Canada
CATEGORIES:Calgary,Fundraisers
END:VEVENT
BEGIN:VEVENT
DTSTART;VALUE=DATE:20250222
DTEND;VALUE=DATE:20250223
DTSTAMP:20260421T061018
CREATED:20250113T235335Z
LAST-MODIFIED:20250218T174511Z
UID:9396-1740182400-1740268799@rescuefood.ca
SUMMARY:Coldest Night of the Year - Winnipeg North End
DESCRIPTION:❄️ Walk with Us on the Coldest Night of the Year! ❄️\nWe’re looking for Team Captains\, Walkers\, and Sponsors to sign up and help us make a difference! Together\, we can raise funds and awareness to fight food insecurity and support our community. 💙 \n🗓️ Date: February 22\, 2025\n📍 Location: Winnipeg’s North End \nLet’s step out into the cold to share warmth\, hope\, and support with those who need it most. 🌟 \n👉 Sign up today at cnoy.org/location/winnipegnorthend
URL:https://rescuefood.ca/event/coldest-night-of-the-year-winnipeg-north-end/
LOCATION:MB
CATEGORIES:Fundraisers
END:VEVENT
BEGIN:VEVENT
DTSTART;TZID=America/Edmonton:20250213T194500
DTEND;TZID=America/Edmonton:20250213T210000
DTSTAMP:20260421T061018
CREATED:20250117T212938Z
LAST-MODIFIED:20250117T212938Z
UID:9400-1739475900-1739480400@rescuefood.ca
SUMMARY:Leftovers Laughs at Rumor's
DESCRIPTION:Come join us for a night of great comedy—and bring your family and friends! Every ticket you purchase to see Juno-nominated comedian Derek Seguin will support the Rescue Food program in Winnipeg\, making sure that good food stays out of landfills and keeps moving to the people who need it most. \nLeftovers Laughs at Rumor’s\nfeaturing Derek Seguin \nFebruary 13\, 2025\n7:45pm\nWinnipeg\, MB \nGet your tickets now: rescuefood.ca/leftoverslaughs
URL:https://rescuefood.ca/event/leftovers-laughs-at-rumors/
LOCATION:Rumor’s Restaurant & Comedy Club\, 2025 Corydon Ave\, Winnipeg\, MB\, R3P 0N5\, Canada
CATEGORIES:Fundraisers
END:VEVENT
BEGIN:VEVENT
DTSTART;VALUE=DATE:20250131
DTEND;VALUE=DATE:20250202
DTSTAMP:20260421T061018
CREATED:20241031T233402Z
LAST-MODIFIED:20241114T190026Z
UID:9250-1738281600-1738454399@rescuefood.ca
SUMMARY:Leftovers Casino Fundraiser 2025 (Volunteers Needed!)
DESCRIPTION:Casino fundraising makes a huge impact on the financial stability of charitable organizations in Alberta. We are looking for volunteers! Volunteering your time to spend a day or two with us greatly supports our programs. \nLocation:\nDeerfoot Inn & Casino\n11500 35 St SE #1000\nCalgary\, AB T2Z 3W4 \nDates:\nFriday\, January 31\, 2025 & Saturday\, February 1\, 2025 \nView available shifts and register to volunteer here.
URL:https://rescuefood.ca/event/leftovers-casino-fundraiser-2025/
LOCATION:Deerfoot Inn & Casino\, 11500 35 St SE #1000\, Calgary\, AB\, T2Z 3W4\, Canada
CATEGORIES:Fundraisers
END:VEVENT
BEGIN:VEVENT
DTSTART;TZID=America/Edmonton:20241001T180000
DTEND;TZID=America/Edmonton:20241001T210000
DTSTAMP:20260421T061018
CREATED:20240821T225012Z
LAST-MODIFIED:20240821T225012Z
UID:8993-1727805600-1727816400@rescuefood.ca
SUMMARY:Calgary Food Rescue FUN-raiser! 2024
DESCRIPTION:Join us for a fun evening of food\, drinks\, bowling\, and more! \nAll funds raised will support the continuation of our Rescue Food operations in Calgary. \n✦ Burger Bar\n✦ Bowling\n✦ Silent Auction\n✦ Arcade Games\n✦ Photo Booth\n \nGet your tickets now at rescueraiser.ca/yyc
URL:https://rescuefood.ca/event/calgary-food-rescue-fun-raiser-2024/
LOCATION:The Banquet (University District)\, 3957 University Ave NW\, Calgary\, AB\, T3B 6K3\, Canada
CATEGORIES:Fundraisers
END:VEVENT
BEGIN:VEVENT
DTSTART;TZID=America/Edmonton:20240713T120000
DTEND;TZID=America/Edmonton:20240713T160000
DTSTAMP:20260421T061018
CREATED:20240611T173838Z
LAST-MODIFIED:20240611T173927Z
UID:8770-1720872000-1720886400@rescuefood.ca
SUMMARY:Edmonton Food Rescue FUN Fair 2024
DESCRIPTION:Join us on Saturday\, July 13th for a fun afternoon out with the family while helping us raise funds to support the continuation of our Rescue Food program right here in Edmonton! \nPlay some carnival games\, enjoy some carnival eats\, and enter our prize raffle for the opportunity to win some amazing prizes! \n🎈 Carnival games (Win Prizes!!)\n🎈 BBQ lunch\n🎈 Carnival Popcorn\n🎈 Photo booth\n🎈 Entertainment\n🎈 Colouring station\n🎈 Raffle \nTickets are on sale now. Pre-purchase your meal and carnival tickets now to save time at the event! Get your tickets now at rescueraiser.ca/yeg
URL:https://rescuefood.ca/event/edmonton-food-rescue-fun-fair-2024/
LOCATION:Rundle Family Centre\, 2903 113 Ave NW\, Edmonton\, AB\, T5W 0P3\, Canada
CATEGORIES:Fundraisers
END:VEVENT
BEGIN:VEVENT
DTSTART;TZID=America/Winnipeg:20240514T180000
DTEND;TZID=America/Winnipeg:20240514T210000
DTSTAMP:20260421T061018
CREATED:20240405T230802Z
LAST-MODIFIED:20240415T171847Z
UID:8512-1715709600-1715720400@rescuefood.ca
SUMMARY:Winnipeg Food Rescue FUN-raiser! 2024
DESCRIPTION:Join us on May 14th for a fun-filled evening of delicious food\, locally-made beer\, and lively entertainment! \nGet your Early Bird tickets before April 26th and save $5! rescueraiser.ca/ywg \n🌟 Pizza buffet\n🌟 Cash Bar (1 drink ticket included with each event ticket!)\n🌟 Raffle\n🌟 50/50\n🌟 Live Music from local group Saulo & Alex\n🌟 Photo booth \nAll funds raised from the event will support the continuation of our rescue food operations right here in Winnipeg.
URL:https://rescuefood.ca/event/winnipeg-food-rescue-fun-raiser-2024/
LOCATION:Trans Canada Brewing Co.\, 1290 Kenaston Blvd #1\, Winnipeg\, MB\, R3P 0R7\, Canada
CATEGORIES:Fundraisers
END:VEVENT
BEGIN:VEVENT
DTSTART;TZID=America/Winnipeg:20231114T180000
DTEND;TZID=America/Winnipeg:20231114T210000
DTSTAMP:20260421T061018
CREATED:20240108T202818Z
LAST-MODIFIED:20240108T202926Z
UID:8237-1699984800-1699995600@rescuefood.ca
SUMMARY:Winnipeg Food Rescue FUN-raiser!
DESCRIPTION:The Food Rescue FUN-raiser event will be a casual\, reception style event focused on bringing the community together for a fun evening of food\, drinks\, live music\, and raised awareness of the importance of rescuing food! All funds raised from the event will support the continuation of our rescue food operations. \nEvent features live acoustic music by local group Car287 so you won’t want to miss out! \nYour ticket includes: buffet style food\, 1 drink ticket\, and access to all of the fun we have planned! \nAdditional drinks and 50/50 tickets will be available for purchase! Silent Auction will be open for bidding until the end of the event! \nTicket Sale Deadline is November 7th at 12:00pm!
URL:https://rescuefood.ca/event/rescue-raiser-ywg-2023/
LOCATION:Trans Canada Brewing Co.\, 1290 Kenaston Blvd #1\, Winnipeg\, MB\, R3P 0R7\, Canada
CATEGORIES:Fundraisers
END:VEVENT
BEGIN:VEVENT
DTSTART;TZID=America/Edmonton:20231108T180000
DTEND;TZID=America/Edmonton:20231108T210000
DTSTAMP:20260421T061018
CREATED:20240108T202228Z
LAST-MODIFIED:20240108T202905Z
UID:8233-1699466400-1699477200@rescuefood.ca
SUMMARY:Edmonton Food Rescue FUN-raiser!
DESCRIPTION:The Food Rescue FUN-raiser event will be a casual\, reception style event focused on bringing the community together for a fun evening of food\, drinks\, a silent auction\, and raised awareness of the importance of rescuing food! All funds raised from the event will support the continuation of our rescue food operations. \nYour ticket includes: buffet style food\, 1 drink ticket\, and access to all of the fun we have planned! \nAdditional drinks and 50/50 tickets will be available for purchase! Silent Auction will be open for bidding until the end of the event! \nNote: There is a flight of stairs required to access the venue space. We apologize for the inconvenience. \nTicket Sale deadline is November 3 at 12:00pm!
URL:https://rescuefood.ca/event/rescue-raiser-yeg-2023/
LOCATION:CRAFT Beer Market Edmonton\, 10013 101A Ave\, Edmonton\, AB\, T5J 0C3\, Canada
CATEGORIES:Fundraisers
END:VEVENT
BEGIN:VEVENT
DTSTART;TZID=America/Edmonton:20231025T180000
DTEND;TZID=America/Edmonton:20231025T210000
DTSTAMP:20260421T061018
CREATED:20230718T195835Z
LAST-MODIFIED:20240108T202840Z
UID:7420-1698256800-1698267600@rescuefood.ca
SUMMARY:Calgary Food Rescue FUN-raiser!
DESCRIPTION:The Food Rescue FUN-raiser will be a casual\, reception-style event focused on bringing the community together for an awesome evening of food\, drinks\, a silent auction\, and some great conversation on the importance of rescuing food! All funds raised from the event will support the continuation of our Rescue Food operations. \nYour ticket includes: buffet style food from our Taco Bar and Mac and Cheese Bar\, 1 drink token\, and access to all of the fun we have planned! \nAdditional drinks and 50/50 tickets will be available for purchase! Silent Auction will be open for bidding until the end of the event! \nNote: There is a flight of stairs required to access the venue space. We apologize for the inconvenience. \nLimited quantities of last minute tickets available so get yours now!
URL:https://rescuefood.ca/event/rescue-raiser-yyc-2023/
LOCATION:CRAFT Beer Market Southcentre\, 100 Anderson Rd SE\, Calgary\, AB\, T2J 3V1\, Canada
CATEGORIES:Fundraisers
END:VEVENT
END:VCALENDAR