BEGIN:VCALENDAR
VERSION:2.0
PRODID:-//Leftovers Foundation - ECPv6.15.20//NONSGML v1.0//EN
CALSCALE:GREGORIAN
METHOD:PUBLISH
X-ORIGINAL-URL:https://rescuefood.ca
X-WR-CALDESC:Events for Leftovers Foundation
REFRESH-INTERVAL;VALUE=DURATION:PT1H
X-Robots-Tag:noindex
X-PUBLISHED-TTL:PT1H
BEGIN:VTIMEZONE
TZID:America/Edmonton
BEGIN:DAYLIGHT
TZOFFSETFROM:-0700
TZOFFSETTO:-0600
TZNAME:MDT
DTSTART:20230312T090000
END:DAYLIGHT
BEGIN:STANDARD
TZOFFSETFROM:-0600
TZOFFSETTO:-0700
TZNAME:MST
DTSTART:20231105T080000
END:STANDARD
BEGIN:DAYLIGHT
TZOFFSETFROM:-0700
TZOFFSETTO:-0600
TZNAME:MDT
DTSTART:20240310T090000
END:DAYLIGHT
BEGIN:STANDARD
TZOFFSETFROM:-0600
TZOFFSETTO:-0700
TZNAME:MST
DTSTART:20241103T080000
END:STANDARD
BEGIN:DAYLIGHT
TZOFFSETFROM:-0700
TZOFFSETTO:-0600
TZNAME:MDT
DTSTART:20250309T090000
END:DAYLIGHT
BEGIN:STANDARD
TZOFFSETFROM:-0600
TZOFFSETTO:-0700
TZNAME:MST
DTSTART:20251102T080000
END:STANDARD
BEGIN:DAYLIGHT
TZOFFSETFROM:-0700
TZOFFSETTO:-0600
TZNAME:MDT
DTSTART:20260308T090000
END:DAYLIGHT
BEGIN:STANDARD
TZOFFSETFROM:-0600
TZOFFSETTO:-0700
TZNAME:MST
DTSTART:20261101T080000
END:STANDARD
END:VTIMEZONE
BEGIN:VEVENT
DTSTART;TZID=America/Edmonton:20250528T173000
DTEND;TZID=America/Edmonton:20250528T183000
DTSTAMP:20260419T062426
CREATED:20250528T172410Z
LAST-MODIFIED:20250514T174807Z
UID:9928-1748453400-1748457000@rescuefood.ca
SUMMARY:Leftovers Annual General Meeting 2025
DESCRIPTION:Listen in and interact with us as we discuss our year in review\, our accomplishments\, and how we helped our communities. After the AGM\, we will stay on the call to answer any questions. \nYou can sign up to reserve a spot at\nhttps://us06web.zoom.us/meeting/register/7ApdlqB1R_mVd1TfgGFPXw
URL:https://rescuefood.ca/event/leftovers-annual-general-meeting-2025/
CATEGORIES:Virtual
END:VEVENT
BEGIN:VEVENT
DTSTART;TZID=America/Edmonton:20241121T080000
DTEND;TZID=America/Edmonton:20241121T170000
DTSTAMP:20260419T062426
CREATED:20241031T234900Z
LAST-MODIFIED:20241112T185307Z
UID:9254-1732176000-1732208400@rescuefood.ca
SUMMARY:Ontario Food Collaborative Symposium 2024
DESCRIPTION:We will be joining the Ontario Food Collaborative for their 4th Annual Virtual Symposium! \nAcross two sessions\, we will explore the work of grassroots organizations that are transforming food systems for the benefit of people and the planet. The speakers will showcase practical\, sustainable programs and kitchen-friendly food hacks you can implement at home. Discover the true cost of food waste and learn how others are reshaping the future of our food ecosystem. \n \nGet your tickets here!
URL:https://rescuefood.ca/event/ontario-food-collaborative-symposium-2024/
CATEGORIES:Virtual
END:VEVENT
END:VCALENDAR