BEGIN:VCALENDAR
VERSION:2.0
PRODID:-//Leftovers Foundation - ECPv6.15.20//NONSGML v1.0//EN
CALSCALE:GREGORIAN
METHOD:PUBLISH
X-ORIGINAL-URL:https://rescuefood.ca
X-WR-CALDESC:Events for Leftovers Foundation
REFRESH-INTERVAL;VALUE=DURATION:PT1H
X-Robots-Tag:noindex
X-PUBLISHED-TTL:PT1H
BEGIN:VTIMEZONE
TZID:America/Edmonton
BEGIN:DAYLIGHT
TZOFFSETFROM:-0700
TZOFFSETTO:-0600
TZNAME:MDT
DTSTART:20240310T090000
END:DAYLIGHT
BEGIN:STANDARD
TZOFFSETFROM:-0600
TZOFFSETTO:-0700
TZNAME:MST
DTSTART:20241103T080000
END:STANDARD
BEGIN:DAYLIGHT
TZOFFSETFROM:-0700
TZOFFSETTO:-0600
TZNAME:MDT
DTSTART:20250309T090000
END:DAYLIGHT
BEGIN:STANDARD
TZOFFSETFROM:-0600
TZOFFSETTO:-0700
TZNAME:MST
DTSTART:20251102T080000
END:STANDARD
BEGIN:DAYLIGHT
TZOFFSETFROM:-0700
TZOFFSETTO:-0600
TZNAME:MDT
DTSTART:20260308T090000
END:DAYLIGHT
BEGIN:STANDARD
TZOFFSETFROM:-0600
TZOFFSETTO:-0700
TZNAME:MST
DTSTART:20261101T080000
END:STANDARD
END:VTIMEZONE
BEGIN:VEVENT
DTSTART;TZID=America/Edmonton:20251028T180000
DTEND;TZID=America/Edmonton:20251028T210000
DTSTAMP:20260419T165220
CREATED:20250912T192004Z
LAST-MODIFIED:20250912T192407Z
UID:10482-1761674400-1761685200@rescuefood.ca
SUMMARY:Winnipeg Food Rescue FUN-raiser! 2025
DESCRIPTION:Join us on October 28th for the 3rd Annual Food Rescue FUN-raiser in Winnipeg! \nWe are so excited to be welcoming special guests CAR287 to the stage again this year for a night of delicious pizza\, great music\, and spooky FUN! \nCome in costume and celebrate the season with us\, because nothing is scarier than food waste! \nAll funds raised will support the continuation of our Rescue Food operations in Winnipeg. \n🦇 Pizza Buffet\n🦇 Cash Bar\n🦇 Live Music\n🦇 Raffle\n🦇 50/50\n🦇 Costume Contest\n \nGet your tickets now at rescueraiser.ca/ywg \n\nAbout CAR287: \n \nCAR287 is a rock band from Winnipeg known for their powerful harmonies\, driving drums\, and vivid storytelling. Blending classic rock roots with a modern edge\, their original songs capture life\, nostalgia\, and the spirit of the Canadian prairies. With dynamic live shows that ignite audiences\, CAR287 is carving out a bold new sound for Canadian rock. \nFollow CAR287 on Instagram!
URL:https://rescuefood.ca/event/winnipeg-food-rescue-fun-raiser-2025/
LOCATION:Trans Canada Brewing Co.\, 1290 Kenaston Blvd #1\, Winnipeg\, MB\, R3P 0R7\, Canada
CATEGORIES:Fundraisers,Winnipeg
END:VEVENT
END:VCALENDAR