BEGIN:VCALENDAR
VERSION:2.0
PRODID:-//Leftovers Foundation - ECPv6.15.20//NONSGML v1.0//EN
CALSCALE:GREGORIAN
METHOD:PUBLISH
X-WR-CALNAME:Leftovers Foundation
X-ORIGINAL-URL:https://rescuefood.ca
X-WR-CALDESC:Events for Leftovers Foundation
REFRESH-INTERVAL;VALUE=DURATION:PT1H
X-Robots-Tag:noindex
X-PUBLISHED-TTL:PT1H
BEGIN:VTIMEZONE
TZID:America/Winnipeg
BEGIN:DAYLIGHT
TZOFFSETFROM:-0600
TZOFFSETTO:-0500
TZNAME:CDT
DTSTART:20250309T080000
END:DAYLIGHT
BEGIN:STANDARD
TZOFFSETFROM:-0500
TZOFFSETTO:-0600
TZNAME:CST
DTSTART:20251102T070000
END:STANDARD
BEGIN:DAYLIGHT
TZOFFSETFROM:-0600
TZOFFSETTO:-0500
TZNAME:CDT
DTSTART:20260308T080000
END:DAYLIGHT
BEGIN:STANDARD
TZOFFSETFROM:-0500
TZOFFSETTO:-0600
TZNAME:CST
DTSTART:20261101T070000
END:STANDARD
BEGIN:DAYLIGHT
TZOFFSETFROM:-0600
TZOFFSETTO:-0500
TZNAME:CDT
DTSTART:20270314T080000
END:DAYLIGHT
BEGIN:STANDARD
TZOFFSETFROM:-0500
TZOFFSETTO:-0600
TZNAME:CST
DTSTART:20271107T070000
END:STANDARD
END:VTIMEZONE
BEGIN:VEVENT
DTSTART;TZID=America/Winnipeg:20260131T133000
DTEND;TZID=America/Winnipeg:20260131T163000
DTSTAMP:20260419T112321
CREATED:20260129T182618Z
LAST-MODIFIED:20260129T182618Z
UID:10914-1769866200-1769877000@rescuefood.ca
SUMMARY:UNAC Winnipeg Branch Community Celebration
DESCRIPTION:Leftovers is joining UNAC’s Winnipeg Branch for their community celebration! \n🗓️ January 31st\, 2026\n⏰1:30pm – 4:30pm\n📍Canadian Museum for Human Rights \nThe United Nations Association in Canada – Winnipeg Branch invites families and community members to a free\, interactive afternoon celebrating local organizations that are advancing the United Nations Sustainable Development Goals (SDGs) right here in Winnipeg. \nFamilies will have the opportunity to: \n\nLearn about local community resources\nExplore how Winnipeg organizations are supporting goals such as Zero Hunger\, Gender Equality\, and Climate Action\nEngage with interactive booths\n\nThe event will also feature a main stage program\, where attendees can hear directly from local leaders\, artists\, and community organizations about the meaningful work they are doing to create a more just\, inclusive\, and sustainable future. \nThis family-friendly event is a chance to connect\, learn\, participate and be inspired by some of the incredible work happening in our community. \nFree Admission – Everyone Welcome!
URL:https://rescuefood.ca/event/unac-winnipeg-branch-community-celebration/
LOCATION:Canadian Museum for Human Rights\, 85 Israel Asper Wy\, Winnipeg\, MB\, R3C 0L5\, Canada
CATEGORIES:In Our Community,Winnipeg
END:VEVENT
END:VCALENDAR