BEGIN:VCALENDAR
VERSION:2.0
PRODID:-//Leftovers Foundation - ECPv6.15.20//NONSGML v1.0//EN
CALSCALE:GREGORIAN
METHOD:PUBLISH
X-ORIGINAL-URL:https://rescuefood.ca
X-WR-CALDESC:Events for Leftovers Foundation
REFRESH-INTERVAL;VALUE=DURATION:PT1H
X-Robots-Tag:noindex
X-PUBLISHED-TTL:PT1H
BEGIN:VTIMEZONE
TZID:America/Winnipeg
BEGIN:DAYLIGHT
TZOFFSETFROM:-0600
TZOFFSETTO:-0500
TZNAME:CDT
DTSTART:20250309T080000
END:DAYLIGHT
BEGIN:STANDARD
TZOFFSETFROM:-0500
TZOFFSETTO:-0600
TZNAME:CST
DTSTART:20251102T070000
END:STANDARD
BEGIN:DAYLIGHT
TZOFFSETFROM:-0600
TZOFFSETTO:-0500
TZNAME:CDT
DTSTART:20260308T080000
END:DAYLIGHT
BEGIN:STANDARD
TZOFFSETFROM:-0500
TZOFFSETTO:-0600
TZNAME:CST
DTSTART:20261101T070000
END:STANDARD
BEGIN:DAYLIGHT
TZOFFSETFROM:-0600
TZOFFSETTO:-0500
TZNAME:CDT
DTSTART:20270314T080000
END:DAYLIGHT
BEGIN:STANDARD
TZOFFSETFROM:-0500
TZOFFSETTO:-0600
TZNAME:CST
DTSTART:20271107T070000
END:STANDARD
END:VTIMEZONE
BEGIN:VEVENT
DTSTART;TZID=America/Winnipeg:20260228T160000
DTEND;TZID=America/Winnipeg:20260228T190000
DTSTAMP:20260419T093512
CREATED:20251223T190009Z
LAST-MODIFIED:20251223T211840Z
UID:10815-1772294400-1772305200@rescuefood.ca
SUMMARY:Coldest Night of the Year 2026 - Winnipeg North End
DESCRIPTION:❄️ Walk with Us on the Coldest Night of the Year! ❄️\nWe’re looking for Team Captains\, Walkers\, and Sponsors to sign up and help us make a difference! Together\, we can raise funds and awareness to fight food insecurity and support our community. 💙 \n🗓️ Date: February 28\, 2026\n📍 Location:\nSergeant Tommy Prince Place\n90 Sinclair St\nWinnipeg\, MB R2X 3C7 \nLet’s step out into the cold to share warmth\, hope\, and support with those who need it most. 🌟 \nNot located in Winnipeg? You can still participate and walk your own route off-site while raising funds! \n👉 Sign up today at cnoy.org/location/winnipegnorthend
URL:https://rescuefood.ca/event/coldest-night-of-the-year-2026-winnipeg-north-end/
LOCATION:Sergeant Tommy Prince Place\, 90 Sinclair St\, Winnipeg\, MB\, R2X 3C7\, Canada
CATEGORIES:Fundraisers,Winnipeg
END:VEVENT
END:VCALENDAR