BEGIN:VCALENDAR
VERSION:2.0
PRODID:-//Leftovers Foundation - ECPv6.15.20//NONSGML v1.0//EN
CALSCALE:GREGORIAN
METHOD:PUBLISH
X-WR-CALNAME:Leftovers Foundation
X-ORIGINAL-URL:https://rescuefood.ca
X-WR-CALDESC:Events for Leftovers Foundation
REFRESH-INTERVAL;VALUE=DURATION:PT1H
X-Robots-Tag:noindex
X-PUBLISHED-TTL:PT1H
BEGIN:VTIMEZONE
TZID:America/Edmonton
BEGIN:DAYLIGHT
TZOFFSETFROM:-0700
TZOFFSETTO:-0600
TZNAME:MDT
DTSTART:20240310T090000
END:DAYLIGHT
BEGIN:STANDARD
TZOFFSETFROM:-0600
TZOFFSETTO:-0700
TZNAME:MST
DTSTART:20241103T080000
END:STANDARD
BEGIN:DAYLIGHT
TZOFFSETFROM:-0700
TZOFFSETTO:-0600
TZNAME:MDT
DTSTART:20250309T090000
END:DAYLIGHT
BEGIN:STANDARD
TZOFFSETFROM:-0600
TZOFFSETTO:-0700
TZNAME:MST
DTSTART:20251102T080000
END:STANDARD
BEGIN:DAYLIGHT
TZOFFSETFROM:-0700
TZOFFSETTO:-0600
TZNAME:MDT
DTSTART:20260308T090000
END:DAYLIGHT
BEGIN:STANDARD
TZOFFSETFROM:-0600
TZOFFSETTO:-0700
TZNAME:MST
DTSTART:20261101T080000
END:STANDARD
END:VTIMEZONE
BEGIN:VEVENT
DTSTART;VALUE=DATE:20250131
DTEND;VALUE=DATE:20250202
DTSTAMP:20260420T101337
CREATED:20241031T233402Z
LAST-MODIFIED:20241114T190026Z
UID:9250-1738281600-1738454399@rescuefood.ca
SUMMARY:Leftovers Casino Fundraiser 2025 (Volunteers Needed!)
DESCRIPTION:Casino fundraising makes a huge impact on the financial stability of charitable organizations in Alberta. We are looking for volunteers! Volunteering your time to spend a day or two with us greatly supports our programs. \nLocation:\nDeerfoot Inn & Casino\n11500 35 St SE #1000\nCalgary\, AB T2Z 3W4 \nDates:\nFriday\, January 31\, 2025 & Saturday\, February 1\, 2025 \nView available shifts and register to volunteer here.
URL:https://rescuefood.ca/event/leftovers-casino-fundraiser-2025/
LOCATION:Deerfoot Inn & Casino\, 11500 35 St SE #1000\, Calgary\, AB\, T2Z 3W4\, Canada
CATEGORIES:Fundraisers
END:VEVENT
END:VCALENDAR