BEGIN:VCALENDAR
VERSION:2.0
PRODID:-//Leftovers Foundation - ECPv6.15.20//NONSGML v1.0//EN
CALSCALE:GREGORIAN
METHOD:PUBLISH
X-WR-CALNAME:Leftovers Foundation
X-ORIGINAL-URL:https://rescuefood.ca
X-WR-CALDESC:Events for Leftovers Foundation
REFRESH-INTERVAL;VALUE=DURATION:PT1H
X-Robots-Tag:noindex
X-PUBLISHED-TTL:PT1H
BEGIN:VTIMEZONE
TZID:America/Winnipeg
BEGIN:DAYLIGHT
TZOFFSETFROM:-0600
TZOFFSETTO:-0500
TZNAME:CDT
DTSTART:20240310T080000
END:DAYLIGHT
BEGIN:STANDARD
TZOFFSETFROM:-0500
TZOFFSETTO:-0600
TZNAME:CST
DTSTART:20241103T070000
END:STANDARD
BEGIN:DAYLIGHT
TZOFFSETFROM:-0600
TZOFFSETTO:-0500
TZNAME:CDT
DTSTART:20250309T080000
END:DAYLIGHT
BEGIN:STANDARD
TZOFFSETFROM:-0500
TZOFFSETTO:-0600
TZNAME:CST
DTSTART:20251102T070000
END:STANDARD
BEGIN:DAYLIGHT
TZOFFSETFROM:-0600
TZOFFSETTO:-0500
TZNAME:CDT
DTSTART:20260308T080000
END:DAYLIGHT
BEGIN:STANDARD
TZOFFSETFROM:-0500
TZOFFSETTO:-0600
TZNAME:CST
DTSTART:20261101T070000
END:STANDARD
END:VTIMEZONE
BEGIN:VTIMEZONE
TZID:America/Edmonton
BEGIN:DAYLIGHT
TZOFFSETFROM:-0700
TZOFFSETTO:-0600
TZNAME:MDT
DTSTART:20240310T090000
END:DAYLIGHT
BEGIN:STANDARD
TZOFFSETFROM:-0600
TZOFFSETTO:-0700
TZNAME:MST
DTSTART:20241103T080000
END:STANDARD
BEGIN:DAYLIGHT
TZOFFSETFROM:-0700
TZOFFSETTO:-0600
TZNAME:MDT
DTSTART:20250309T090000
END:DAYLIGHT
BEGIN:STANDARD
TZOFFSETFROM:-0600
TZOFFSETTO:-0700
TZNAME:MST
DTSTART:20251102T080000
END:STANDARD
BEGIN:DAYLIGHT
TZOFFSETFROM:-0700
TZOFFSETTO:-0600
TZNAME:MDT
DTSTART:20260308T090000
END:DAYLIGHT
BEGIN:STANDARD
TZOFFSETFROM:-0600
TZOFFSETTO:-0700
TZNAME:MST
DTSTART:20261101T080000
END:STANDARD
END:VTIMEZONE
BEGIN:VEVENT
DTSTART;TZID=America/Winnipeg:20250426T110000
DTEND;TZID=America/Winnipeg:20250426T160000
DTSTAMP:20260420T140323
CREATED:20250411T183458Z
LAST-MODIFIED:20250411T183458Z
UID:9681-1745665200-1745683200@rescuefood.ca
SUMMARY:Earth Week | Wind Up
DESCRIPTION:We’re joining The Forks on the last day of this year’s Earth Week celebration\, where there will be loads of events on site celebrating green action\, responsible decision making\, and all things sustainability! \nHere’s what you can expect: \n\n11AM – 4PM | Sustainability Hub\nExplore the Forks Market Patio and connect with local organizations sharing their work in sustainability and climate action. Learn\, get inspired\, and find ways to get involved with these local organizations: \n\nLeftovers Foundation\nSecond Harvest\nGreen Kids\nWilderness Committee\nCanadian Parks and Wilderness Society-Manitoba (CPAWS-MB.)\nSustainable South Osborne Community Co-op\nNature Conservancy of Canada\nTypha Company Ltd.\nThe WRENCH\nBike Winnipeg\nClimate Change Connection\nWildlife Haven Rehabilitation Centre\n\n\n\n\n11AM – 4PM | E Waste Drop Off\nMother Earth Recycling will be set up in The Forks Market parking lot\, inviting visitors to drop off their electronic waste and they will dispose of it responsibly!\nClick here for a list of electronics that can be recycled.\n\n\n11AM – 5PM | Compost Sampling Giveaway\nBring your own bucket or pail and take home a free sample of nutrient-rich compost\, made here at The Forks\, to add to your garden!\nClick here to learn more about the compost we produce at The Forks!\n\n\n\n1PM – 3PM | Dance Showcase\nGet ready to bust a move at the Earth Day Dance Showcase with Climate Change Connection! \nInterested in dancing? Click here to register!\n\n\n\n2:30PM | Target Zero Eco Tours\nJoin Helga Joakobson\, Sustainability Coordinator at The Forks\, for an interactive walking tour aimed at teaching folks how to minimize their carbon footprint by showcasing our Target Zero efforts here at The Forks!\nClick here to register for a tour!
URL:https://rescuefood.ca/event/earth-week-wind-up/
LOCATION:The Forks Market\, 1 Forks Market Rd\, Winnipeg\, AB\, R3C 4L9
CATEGORIES:In Our Community
END:VEVENT
BEGIN:VEVENT
DTSTART;TZID=America/Edmonton:20250426T123000
DTEND;TZID=America/Edmonton:20250426T163000
DTSTAMP:20260420T140323
CREATED:20250411T181743Z
LAST-MODIFIED:20250411T181743Z
UID:9677-1745670600-1745685000@rescuefood.ca
SUMMARY:Edmonton Earth Day Festival 2025
DESCRIPTION:We’re super excited to join SCAN! Edmonton and The Council of Canadians at their Earth Day Festival! \nJoin us for an afternoon of fun\, food\, inspiration\, entertainment\, activities\, community\, insight and celebration! \n🗓️ Sat\, April 26\n⌚ 12:30 – 1:00 Welcome\n1:00-2:15 pm Indigenous Ceremony\, impactful speakers\, Raging Grannies\n2:15-4:30 pm round dance\, family activities\, art\, green innovations\, films\, live music\, food\, fun!\n🏤 Alberta Avenue Community League\, 9210 118 Avenue\, Edmonton \n🌎 Let’s come together to celebrate\, for inspiration on how to protect our beautiful earth\, and to unify to build a better future for all! \nYou can find more information on Eventbrite.
URL:https://rescuefood.ca/event/edmonton-earth-day-festival-2025/
LOCATION:Alberta Avenue Community Centre\, 9210 118 Ave NW\, Edmonton\, AB\, T5G 0N4\, Canada
CATEGORIES:In Our Community
END:VEVENT
END:VCALENDAR