BEGIN:VCALENDAR
VERSION:2.0
PRODID:-//Leftovers Foundation - ECPv6.15.20//NONSGML v1.0//EN
CALSCALE:GREGORIAN
METHOD:PUBLISH
X-WR-CALNAME:Leftovers Foundation
X-ORIGINAL-URL:https://rescuefood.ca
X-WR-CALDESC:Events for Leftovers Foundation
REFRESH-INTERVAL;VALUE=DURATION:PT1H
X-Robots-Tag:noindex
X-PUBLISHED-TTL:PT1H
BEGIN:VTIMEZONE
TZID:America/Edmonton
BEGIN:DAYLIGHT
TZOFFSETFROM:-0700
TZOFFSETTO:-0600
TZNAME:MDT
DTSTART:20230312T090000
END:DAYLIGHT
BEGIN:STANDARD
TZOFFSETFROM:-0600
TZOFFSETTO:-0700
TZNAME:MST
DTSTART:20231105T080000
END:STANDARD
BEGIN:DAYLIGHT
TZOFFSETFROM:-0700
TZOFFSETTO:-0600
TZNAME:MDT
DTSTART:20240310T090000
END:DAYLIGHT
BEGIN:STANDARD
TZOFFSETFROM:-0600
TZOFFSETTO:-0700
TZNAME:MST
DTSTART:20241103T080000
END:STANDARD
BEGIN:DAYLIGHT
TZOFFSETFROM:-0700
TZOFFSETTO:-0600
TZNAME:MDT
DTSTART:20250309T090000
END:DAYLIGHT
BEGIN:STANDARD
TZOFFSETFROM:-0600
TZOFFSETTO:-0700
TZNAME:MST
DTSTART:20251102T080000
END:STANDARD
END:VTIMEZONE
BEGIN:VEVENT
DTSTART;TZID=America/Edmonton:20240420T100000
DTEND;TZID=America/Edmonton:20240420T150000
DTSTAMP:20260421T064822
CREATED:20240415T171727Z
LAST-MODIFIED:20240415T172410Z
UID:8593-1713607200-1713625200@rescuefood.ca
SUMMARY:Edmonton Volunteer Fair 2024
DESCRIPTION:We will be at ECVO’s Volunteer Fair on April 20th from 10am-3pm! \nCome stop by our table to learn more about Leftovers\, and discover incredible volunteer opportunities in Edmonton. \nLocated @ and around Centre Stage\, Level One\, Phase I. Outside of Hudson’s Bay.
URL:https://rescuefood.ca/event/edmonton-volunteer-fair-2024/
LOCATION:West Edmonton Mall\, 8882 170 St NW\, Edmonton\, AB\, T5T 4J2\, Canada
CATEGORIES:In Our Community
END:VEVENT
END:VCALENDAR