BEGIN:VCALENDAR
VERSION:2.0
PRODID:-//Leftovers Foundation - ECPv6.15.20//NONSGML v1.0//EN
CALSCALE:GREGORIAN
METHOD:PUBLISH
X-WR-CALNAME:Leftovers Foundation
X-ORIGINAL-URL:https://rescuefood.ca
X-WR-CALDESC:Events for Leftovers Foundation
REFRESH-INTERVAL;VALUE=DURATION:PT1H
X-Robots-Tag:noindex
X-PUBLISHED-TTL:PT1H
BEGIN:VTIMEZONE
TZID:America/Edmonton
BEGIN:DAYLIGHT
TZOFFSETFROM:-0700
TZOFFSETTO:-0600
TZNAME:MDT
DTSTART:20230312T090000
END:DAYLIGHT
BEGIN:STANDARD
TZOFFSETFROM:-0600
TZOFFSETTO:-0700
TZNAME:MST
DTSTART:20231105T080000
END:STANDARD
BEGIN:DAYLIGHT
TZOFFSETFROM:-0700
TZOFFSETTO:-0600
TZNAME:MDT
DTSTART:20240310T090000
END:DAYLIGHT
BEGIN:STANDARD
TZOFFSETFROM:-0600
TZOFFSETTO:-0700
TZNAME:MST
DTSTART:20241103T080000
END:STANDARD
BEGIN:DAYLIGHT
TZOFFSETFROM:-0700
TZOFFSETTO:-0600
TZNAME:MDT
DTSTART:20250309T090000
END:DAYLIGHT
BEGIN:STANDARD
TZOFFSETFROM:-0600
TZOFFSETTO:-0700
TZNAME:MST
DTSTART:20251102T080000
END:STANDARD
END:VTIMEZONE
BEGIN:VEVENT
DTSTART;TZID=America/Edmonton:20240228T130000
DTEND;TZID=America/Edmonton:20240228T150000
DTSTAMP:20260421T075127
CREATED:20240221T192926Z
LAST-MODIFIED:20240411T215708Z
UID:8421-1709125200-1709132400@rescuefood.ca
SUMMARY:Edmonton Volunteer Appreciation Coffee Event
DESCRIPTION:Join us for our Volunteer Appreciation Coffee Event at Community Natural Foods on Feb 28\, from 1-3pm! We will be giving away Leftovers swag\, and there will be a draw for 2x $25 Esso Gift Cards. Come hang out with your City Coordinator and have a drink or pastry on us! \nPlease RSVP at alex@rescuefood.ca
URL:https://rescuefood.ca/event/edmonton-volunteer-appreciation-coffee-event/
LOCATION:Community Natural Foods\, 7917 104 St NW\, Edmonton\, AB\, T6E 4E1\, Canada
CATEGORIES:Volunteer Appreciation
END:VEVENT
END:VCALENDAR