BEGIN:VCALENDAR
VERSION:2.0
PRODID:-//Leftovers Foundation - ECPv6.15.20//NONSGML v1.0//EN
CALSCALE:GREGORIAN
METHOD:PUBLISH
X-WR-CALNAME:Leftovers Foundation
X-ORIGINAL-URL:https://rescuefood.ca
X-WR-CALDESC:Events for Leftovers Foundation
REFRESH-INTERVAL;VALUE=DURATION:PT1H
X-Robots-Tag:noindex
X-PUBLISHED-TTL:PT1H
BEGIN:VTIMEZONE
TZID:America/Edmonton
BEGIN:DAYLIGHT
TZOFFSETFROM:-0700
TZOFFSETTO:-0600
TZNAME:MDT
DTSTART:20240310T090000
END:DAYLIGHT
BEGIN:STANDARD
TZOFFSETFROM:-0600
TZOFFSETTO:-0700
TZNAME:MST
DTSTART:20241103T080000
END:STANDARD
BEGIN:DAYLIGHT
TZOFFSETFROM:-0700
TZOFFSETTO:-0600
TZNAME:MDT
DTSTART:20250309T090000
END:DAYLIGHT
BEGIN:STANDARD
TZOFFSETFROM:-0600
TZOFFSETTO:-0700
TZNAME:MST
DTSTART:20251102T080000
END:STANDARD
BEGIN:DAYLIGHT
TZOFFSETFROM:-0700
TZOFFSETTO:-0600
TZNAME:MDT
DTSTART:20260308T090000
END:DAYLIGHT
BEGIN:STANDARD
TZOFFSETFROM:-0600
TZOFFSETTO:-0700
TZNAME:MST
DTSTART:20261101T080000
END:STANDARD
END:VTIMEZONE
BEGIN:VEVENT
DTSTART;TZID=America/Edmonton:20250304T100000
DTEND;TZID=America/Edmonton:20250304T140000
DTSTAMP:20260420T061925
CREATED:20250303T230803Z
LAST-MODIFIED:20250303T231930Z
UID:9496-1741082400-1741096800@rescuefood.ca
SUMMARY:SDG Month Intro Fair
DESCRIPTION:March is SDG Month! Join us to kick off the month on March 4 at the SDG Intro Fair from 10\na.m. – 2 p.m. at the University Commons (UCOMM). \nThis free event is open to all and gives you the chance to connect with campus and community\norganizations to learn about the Sustainable Development Goals (SDGs) and how they’re\nworking to achieve them. There will be activities\, a photo booth\, and prizes—don’t miss out!
URL:https://rescuefood.ca/event/sdg-month-intro-fair/
LOCATION:University Commons – University of Alberta\, University of Alberta\, Edmonton\, AB\, T6G 2N8\, Canada
CATEGORIES:In Our Community
ORGANIZER;CN="University of Alberta Sustainability Council":MAILTO:sustainability@ualberta.ca
END:VEVENT
END:VCALENDAR