BEGIN:VCALENDAR
VERSION:2.0
PRODID:-//Leftovers Foundation - ECPv6.15.20//NONSGML v1.0//EN
CALSCALE:GREGORIAN
METHOD:PUBLISH
X-WR-CALNAME:Leftovers Foundation
X-ORIGINAL-URL:https://rescuefood.ca
X-WR-CALDESC:Events for Leftovers Foundation
REFRESH-INTERVAL;VALUE=DURATION:PT1H
X-Robots-Tag:noindex
X-PUBLISHED-TTL:PT1H
BEGIN:VTIMEZONE
TZID:America/Edmonton
BEGIN:DAYLIGHT
TZOFFSETFROM:-0700
TZOFFSETTO:-0600
TZNAME:MDT
DTSTART:20240310T090000
END:DAYLIGHT
BEGIN:STANDARD
TZOFFSETFROM:-0600
TZOFFSETTO:-0700
TZNAME:MST
DTSTART:20241103T080000
END:STANDARD
BEGIN:DAYLIGHT
TZOFFSETFROM:-0700
TZOFFSETTO:-0600
TZNAME:MDT
DTSTART:20250309T090000
END:DAYLIGHT
BEGIN:STANDARD
TZOFFSETFROM:-0600
TZOFFSETTO:-0700
TZNAME:MST
DTSTART:20251102T080000
END:STANDARD
BEGIN:DAYLIGHT
TZOFFSETFROM:-0700
TZOFFSETTO:-0600
TZNAME:MDT
DTSTART:20260308T090000
END:DAYLIGHT
BEGIN:STANDARD
TZOFFSETFROM:-0600
TZOFFSETTO:-0700
TZNAME:MST
DTSTART:20261101T080000
END:STANDARD
END:VTIMEZONE
BEGIN:VEVENT
DTSTART;VALUE=DATE:20250908
DTEND;VALUE=DATE:20250910
DTSTAMP:20260419T205451
CREATED:20250912T190951Z
LAST-MODIFIED:20250912T190951Z
UID:10478-1757289600-1757462399@rescuefood.ca
SUMMARY:NEXT Food Expo 2025
DESCRIPTION:Leftovers will be participating in the NEXT Food Expo as an exhibitor! Our Calgary City Coordinator will also be a panellist for Beyond Waste: Turning Challenges into Sustainable Opportunities. \nNEXT Food Expo is Canada’s new B2B event built for what’s next in food\, beverage\, tech & equipment. It is designed for chefs\, restaurateurs\, hoteliers\, bartenders\, buyers and food industry pros looking to discover\, connect and grow in Western Canada’s fast-evolving market.
URL:https://rescuefood.ca/event/next-food-expo-2025/
LOCATION:BMO Centre\, 1912 Flores Ladue Parade SE\, Calgary\, AB\, T2G 2W1\, Canada
CATEGORIES:Calgary,In Our Community
END:VEVENT
END:VCALENDAR