BEGIN:VCALENDAR
VERSION:2.0
PRODID:-//Leftovers Foundation - ECPv6.15.20//NONSGML v1.0//EN
CALSCALE:GREGORIAN
METHOD:PUBLISH
X-ORIGINAL-URL:https://rescuefood.ca
X-WR-CALDESC:Events for Leftovers Foundation
REFRESH-INTERVAL;VALUE=DURATION:PT1H
X-Robots-Tag:noindex
X-PUBLISHED-TTL:PT1H
BEGIN:VTIMEZONE
TZID:America/Edmonton
BEGIN:DAYLIGHT
TZOFFSETFROM:-0700
TZOFFSETTO:-0600
TZNAME:MDT
DTSTART:20240310T090000
END:DAYLIGHT
BEGIN:STANDARD
TZOFFSETFROM:-0600
TZOFFSETTO:-0700
TZNAME:MST
DTSTART:20241103T080000
END:STANDARD
BEGIN:DAYLIGHT
TZOFFSETFROM:-0700
TZOFFSETTO:-0600
TZNAME:MDT
DTSTART:20250309T090000
END:DAYLIGHT
BEGIN:STANDARD
TZOFFSETFROM:-0600
TZOFFSETTO:-0700
TZNAME:MST
DTSTART:20251102T080000
END:STANDARD
BEGIN:DAYLIGHT
TZOFFSETFROM:-0700
TZOFFSETTO:-0600
TZNAME:MDT
DTSTART:20260308T090000
END:DAYLIGHT
BEGIN:STANDARD
TZOFFSETFROM:-0600
TZOFFSETTO:-0700
TZNAME:MST
DTSTART:20261101T080000
END:STANDARD
END:VTIMEZONE
BEGIN:VEVENT
DTSTART;TZID=America/Edmonton:20250816T110000
DTEND;TZID=America/Edmonton:20250816T190000
DTSTAMP:20260419T205427
CREATED:20250814T185532Z
LAST-MODIFIED:20250814T221657Z
UID:10401-1755342000-1755370800@rescuefood.ca
SUMMARY:TD Chinatown Street Festival
DESCRIPTION:We’re joining YYC Noodle Festival at the 2025 Calgary Chinatown Street Festival! \nThe 2025 Calgary Chinatown Street Festival takes place from 11:00 AM to 7:00 PM in the heart of Chinatown at 3 Ave & 1 Street SE and Lot 26. Hosted by the Calgary Chinatown Business Improvement Area\, this one-day event will feature cultural sharing\, local vendors\, food\, live performances\, and family-friendly activities. Don’t miss the Lion & Dragon Dance at 11:45 AM\, the official opening ceremony at 12:00 PM\, and stage performances starting around 1:00 PM. The festival is free to attend\, pet friendly\, and fun for the whole family!
URL:https://rescuefood.ca/event/td-chinatown-street-festival/
LOCATION:Chinatown\, 1st St SE & 3 Ave SE\, Calgary\, AB\, T2G 4X3\, Canada
CATEGORIES:Calgary,In Our Community
END:VEVENT
BEGIN:VEVENT
DTSTART;TZID=America/Edmonton:20250820T160000
DTEND;TZID=America/Edmonton:20250820T190000
DTSTAMP:20260419T205427
CREATED:20250808T221121Z
LAST-MODIFIED:20250814T221750Z
UID:10332-1755705600-1755716400@rescuefood.ca
SUMMARY:TrashFEST
DESCRIPTION:We’re joining TrashFEST in Strathcona County! \nCome learn about the waste system in Strathcona County! \nEnjoy some of these free activities:\n• an up-close look at one of our waste trucks\n• interactive games and information booths\n• smash some broken electronics (thanks to Quantum Lifecycle Partners)\n• and so much more! \n*In case of inclement weather\, the event may be cancelled. Check Strathcona County’s website or social media the day of the event.
URL:https://rescuefood.ca/event/trashfest-2/
LOCATION:Broadmoor Lake Park\, Sherwood Park\, AB\, T8A 0W9\, Canada
CATEGORIES:In Our Community,Strathcona County
END:VEVENT
BEGIN:VEVENT
DTSTART;TZID=America/Edmonton:20250824T110000
DTEND;TZID=America/Edmonton:20250824T150000
DTSTAMP:20260419T205427
CREATED:20250808T221723Z
LAST-MODIFIED:20250814T221805Z
UID:10335-1756033200-1756047600@rescuefood.ca
SUMMARY:The Garden Festival
DESCRIPTION:We’re joining the Edmonton Horticultural Society for a vibrant day of garden talks\, hands-on demos\, local vendors\, kids’ crafts\, community displays\, and plenty of inspiration for gardeners of all levels. There will be a barbecue by donation! \nDOOR PRIZES! \nFREE ENTRY! \nSpecial Guest Speaker at 12:30 PM:\nDr. Evans will be sharing his expertise on fruit trees\, including grafting techniques\, care tips\, and a live Q&A session — don’t miss it! \nVendors attending:\nAnita Nawrocki\nCalade Orchids and Tropicals\nCity of Edmonton – Community Forestry\nCity of Edmonton – Compost School\nCity of Edmonton – Partners in Parks\nEdmonton African Violet & Gesneriad Society\nEdmonton Food Bank\nEdmonton Forest School\nEdmonton Native Plant Society\nFrog Alley\nLMC Fibre Art\nOrganic Master Gardeners\nShadowpots\nWagner Natural Area\nWaste Free Edmonton \nAnd More!
URL:https://rescuefood.ca/event/the-garden-festival/
LOCATION:Hazeldean Community League\, 9630 66 Ave NW\, Edmonton\, AB\, T6E 4W9\, Canada
CATEGORIES:Edmonton,In Our Community
END:VEVENT
END:VCALENDAR