BEGIN:VCALENDAR
VERSION:2.0
PRODID:-//Leftovers Foundation - ECPv6.15.20//NONSGML v1.0//EN
CALSCALE:GREGORIAN
METHOD:PUBLISH
X-ORIGINAL-URL:https://rescuefood.ca
X-WR-CALDESC:Events for Leftovers Foundation
REFRESH-INTERVAL;VALUE=DURATION:PT1H
X-Robots-Tag:noindex
X-PUBLISHED-TTL:PT1H
BEGIN:VTIMEZONE
TZID:America/Edmonton
BEGIN:DAYLIGHT
TZOFFSETFROM:-0700
TZOFFSETTO:-0600
TZNAME:MDT
DTSTART:20230312T090000
END:DAYLIGHT
BEGIN:STANDARD
TZOFFSETFROM:-0600
TZOFFSETTO:-0700
TZNAME:MST
DTSTART:20231105T080000
END:STANDARD
BEGIN:DAYLIGHT
TZOFFSETFROM:-0700
TZOFFSETTO:-0600
TZNAME:MDT
DTSTART:20240310T090000
END:DAYLIGHT
BEGIN:STANDARD
TZOFFSETFROM:-0600
TZOFFSETTO:-0700
TZNAME:MST
DTSTART:20241103T080000
END:STANDARD
BEGIN:DAYLIGHT
TZOFFSETFROM:-0700
TZOFFSETTO:-0600
TZNAME:MDT
DTSTART:20250309T090000
END:DAYLIGHT
BEGIN:STANDARD
TZOFFSETFROM:-0600
TZOFFSETTO:-0700
TZNAME:MST
DTSTART:20251102T080000
END:STANDARD
END:VTIMEZONE
BEGIN:VEVENT
DTSTART;TZID=America/Edmonton:20240713T120000
DTEND;TZID=America/Edmonton:20240713T160000
DTSTAMP:20260420T221733
CREATED:20240611T173838Z
LAST-MODIFIED:20240611T173927Z
UID:8770-1720872000-1720886400@rescuefood.ca
SUMMARY:Edmonton Food Rescue FUN Fair 2024
DESCRIPTION:Join us on Saturday\, July 13th for a fun afternoon out with the family while helping us raise funds to support the continuation of our Rescue Food program right here in Edmonton! \nPlay some carnival games\, enjoy some carnival eats\, and enter our prize raffle for the opportunity to win some amazing prizes! \n🎈 Carnival games (Win Prizes!!)\n🎈 BBQ lunch\n🎈 Carnival Popcorn\n🎈 Photo booth\n🎈 Entertainment\n🎈 Colouring station\n🎈 Raffle \nTickets are on sale now. Pre-purchase your meal and carnival tickets now to save time at the event! Get your tickets now at rescueraiser.ca/yeg
URL:https://rescuefood.ca/event/edmonton-food-rescue-fun-fair-2024/
LOCATION:Rundle Family Centre\, 2903 113 Ave NW\, Edmonton\, AB\, T5W 0P3\, Canada
CATEGORIES:Fundraisers
END:VEVENT
END:VCALENDAR