BEGIN:VCALENDAR
VERSION:2.0
PRODID:-//Leftovers Foundation - ECPv6.15.20//NONSGML v1.0//EN
CALSCALE:GREGORIAN
METHOD:PUBLISH
X-WR-CALNAME:Leftovers Foundation
X-ORIGINAL-URL:https://rescuefood.ca
X-WR-CALDESC:Events for Leftovers Foundation
REFRESH-INTERVAL;VALUE=DURATION:PT1H
X-Robots-Tag:noindex
X-PUBLISHED-TTL:PT1H
BEGIN:VTIMEZONE
TZID:America/Edmonton
BEGIN:DAYLIGHT
TZOFFSETFROM:-0700
TZOFFSETTO:-0600
TZNAME:MDT
DTSTART:20230312T090000
END:DAYLIGHT
BEGIN:STANDARD
TZOFFSETFROM:-0600
TZOFFSETTO:-0700
TZNAME:MST
DTSTART:20231105T080000
END:STANDARD
BEGIN:DAYLIGHT
TZOFFSETFROM:-0700
TZOFFSETTO:-0600
TZNAME:MDT
DTSTART:20240310T090000
END:DAYLIGHT
BEGIN:STANDARD
TZOFFSETFROM:-0600
TZOFFSETTO:-0700
TZNAME:MST
DTSTART:20241103T080000
END:STANDARD
BEGIN:DAYLIGHT
TZOFFSETFROM:-0700
TZOFFSETTO:-0600
TZNAME:MDT
DTSTART:20250309T090000
END:DAYLIGHT
BEGIN:STANDARD
TZOFFSETFROM:-0600
TZOFFSETTO:-0700
TZNAME:MST
DTSTART:20251102T080000
END:STANDARD
END:VTIMEZONE
BEGIN:VEVENT
DTSTART;TZID=America/Edmonton:20241001T180000
DTEND;TZID=America/Edmonton:20241001T210000
DTSTAMP:20260420T163934
CREATED:20240821T225012Z
LAST-MODIFIED:20240821T225012Z
UID:8993-1727805600-1727816400@rescuefood.ca
SUMMARY:Calgary Food Rescue FUN-raiser! 2024
DESCRIPTION:Join us for a fun evening of food\, drinks\, bowling\, and more! \nAll funds raised will support the continuation of our Rescue Food operations in Calgary. \n✦ Burger Bar\n✦ Bowling\n✦ Silent Auction\n✦ Arcade Games\n✦ Photo Booth\n \nGet your tickets now at rescueraiser.ca/yyc
URL:https://rescuefood.ca/event/calgary-food-rescue-fun-raiser-2024/
LOCATION:The Banquet (University District)\, 3957 University Ave NW\, Calgary\, AB\, T3B 6K3\, Canada
CATEGORIES:Fundraisers
END:VEVENT
END:VCALENDAR