BEGIN:VCALENDAR
VERSION:2.0
PRODID:-//Leftovers Foundation - ECPv6.15.20//NONSGML v1.0//EN
CALSCALE:GREGORIAN
METHOD:PUBLISH
X-ORIGINAL-URL:https://rescuefood.ca
X-WR-CALDESC:Events for Leftovers Foundation
REFRESH-INTERVAL;VALUE=DURATION:PT1H
X-Robots-Tag:noindex
X-PUBLISHED-TTL:PT1H
BEGIN:VTIMEZONE
TZID:America/Winnipeg
BEGIN:DAYLIGHT
TZOFFSETFROM:-0600
TZOFFSETTO:-0500
TZNAME:CDT
DTSTART:20220313T080000
END:DAYLIGHT
BEGIN:STANDARD
TZOFFSETFROM:-0500
TZOFFSETTO:-0600
TZNAME:CST
DTSTART:20221106T070000
END:STANDARD
BEGIN:DAYLIGHT
TZOFFSETFROM:-0600
TZOFFSETTO:-0500
TZNAME:CDT
DTSTART:20230312T080000
END:DAYLIGHT
BEGIN:STANDARD
TZOFFSETFROM:-0500
TZOFFSETTO:-0600
TZNAME:CST
DTSTART:20231105T070000
END:STANDARD
BEGIN:DAYLIGHT
TZOFFSETFROM:-0600
TZOFFSETTO:-0500
TZNAME:CDT
DTSTART:20240310T080000
END:DAYLIGHT
BEGIN:STANDARD
TZOFFSETFROM:-0500
TZOFFSETTO:-0600
TZNAME:CST
DTSTART:20241103T070000
END:STANDARD
END:VTIMEZONE
BEGIN:VEVENT
DTSTART;TZID=America/Winnipeg:20231114T180000
DTEND;TZID=America/Winnipeg:20231114T210000
DTSTAMP:20260421T172254
CREATED:20240108T202818Z
LAST-MODIFIED:20240108T202926Z
UID:8237-1699984800-1699995600@rescuefood.ca
SUMMARY:Winnipeg Food Rescue FUN-raiser!
DESCRIPTION:The Food Rescue FUN-raiser event will be a casual\, reception style event focused on bringing the community together for a fun evening of food\, drinks\, live music\, and raised awareness of the importance of rescuing food! All funds raised from the event will support the continuation of our rescue food operations. \nEvent features live acoustic music by local group Car287 so you won’t want to miss out! \nYour ticket includes: buffet style food\, 1 drink ticket\, and access to all of the fun we have planned! \nAdditional drinks and 50/50 tickets will be available for purchase! Silent Auction will be open for bidding until the end of the event! \nTicket Sale Deadline is November 7th at 12:00pm!
URL:https://rescuefood.ca/event/rescue-raiser-ywg-2023/
LOCATION:Trans Canada Brewing Co.\, 1290 Kenaston Blvd #1\, Winnipeg\, MB\, R3P 0R7\, Canada
CATEGORIES:Fundraisers
END:VEVENT
END:VCALENDAR