BEGIN:VCALENDAR
VERSION:2.0
PRODID:-//Leftovers Foundation - ECPv6.15.20//NONSGML v1.0//EN
CALSCALE:GREGORIAN
METHOD:PUBLISH
X-ORIGINAL-URL:https://rescuefood.ca
X-WR-CALDESC:Events for Leftovers Foundation
REFRESH-INTERVAL;VALUE=DURATION:PT1H
X-Robots-Tag:noindex
X-PUBLISHED-TTL:PT1H
BEGIN:VTIMEZONE
TZID:America/Winnipeg
BEGIN:DAYLIGHT
TZOFFSETFROM:-0600
TZOFFSETTO:-0500
TZNAME:CDT
DTSTART:20230312T080000
END:DAYLIGHT
BEGIN:STANDARD
TZOFFSETFROM:-0500
TZOFFSETTO:-0600
TZNAME:CST
DTSTART:20231105T070000
END:STANDARD
BEGIN:DAYLIGHT
TZOFFSETFROM:-0600
TZOFFSETTO:-0500
TZNAME:CDT
DTSTART:20240310T080000
END:DAYLIGHT
BEGIN:STANDARD
TZOFFSETFROM:-0500
TZOFFSETTO:-0600
TZNAME:CST
DTSTART:20241103T070000
END:STANDARD
BEGIN:DAYLIGHT
TZOFFSETFROM:-0600
TZOFFSETTO:-0500
TZNAME:CDT
DTSTART:20250309T080000
END:DAYLIGHT
BEGIN:STANDARD
TZOFFSETFROM:-0500
TZOFFSETTO:-0600
TZNAME:CST
DTSTART:20251102T070000
END:STANDARD
END:VTIMEZONE
BEGIN:VEVENT
DTSTART;TZID=America/Winnipeg:20240514T180000
DTEND;TZID=America/Winnipeg:20240514T210000
DTSTAMP:20260421T041020
CREATED:20240405T230802Z
LAST-MODIFIED:20240415T171847Z
UID:8512-1715709600-1715720400@rescuefood.ca
SUMMARY:Winnipeg Food Rescue FUN-raiser! 2024
DESCRIPTION:Join us on May 14th for a fun-filled evening of delicious food\, locally-made beer\, and lively entertainment! \nGet your Early Bird tickets before April 26th and save $5! rescueraiser.ca/ywg \n🌟 Pizza buffet\n🌟 Cash Bar (1 drink ticket included with each event ticket!)\n🌟 Raffle\n🌟 50/50\n🌟 Live Music from local group Saulo & Alex\n🌟 Photo booth \nAll funds raised from the event will support the continuation of our rescue food operations right here in Winnipeg.
URL:https://rescuefood.ca/event/winnipeg-food-rescue-fun-raiser-2024/
LOCATION:Trans Canada Brewing Co.\, 1290 Kenaston Blvd #1\, Winnipeg\, MB\, R3P 0R7\, Canada
CATEGORIES:Fundraisers
END:VEVENT
END:VCALENDAR