BEGIN:VCALENDAR
VERSION:2.0
PRODID:-//Leftovers Foundation - ECPv6.15.20//NONSGML v1.0//EN
CALSCALE:GREGORIAN
METHOD:PUBLISH
X-ORIGINAL-URL:https://rescuefood.ca
X-WR-CALDESC:Events for Leftovers Foundation
REFRESH-INTERVAL;VALUE=DURATION:PT1H
X-Robots-Tag:noindex
X-PUBLISHED-TTL:PT1H
BEGIN:VTIMEZONE
TZID:America/Edmonton
BEGIN:DAYLIGHT
TZOFFSETFROM:-0700
TZOFFSETTO:-0600
TZNAME:MDT
DTSTART:20230312T090000
END:DAYLIGHT
BEGIN:STANDARD
TZOFFSETFROM:-0600
TZOFFSETTO:-0700
TZNAME:MST
DTSTART:20231105T080000
END:STANDARD
BEGIN:DAYLIGHT
TZOFFSETFROM:-0700
TZOFFSETTO:-0600
TZNAME:MDT
DTSTART:20240310T090000
END:DAYLIGHT
BEGIN:STANDARD
TZOFFSETFROM:-0600
TZOFFSETTO:-0700
TZNAME:MST
DTSTART:20241103T080000
END:STANDARD
BEGIN:DAYLIGHT
TZOFFSETFROM:-0700
TZOFFSETTO:-0600
TZNAME:MDT
DTSTART:20250309T090000
END:DAYLIGHT
BEGIN:STANDARD
TZOFFSETFROM:-0600
TZOFFSETTO:-0700
TZNAME:MST
DTSTART:20251102T080000
END:STANDARD
END:VTIMEZONE
BEGIN:VEVENT
DTSTART;TZID=America/Edmonton:20240605T160000
DTEND;TZID=America/Edmonton:20240605T190000
DTSTAMP:20260421T035256
CREATED:20240524T195700Z
LAST-MODIFIED:20240524T202025Z
UID:8723-1717603200-1717614000@rescuefood.ca
SUMMARY:TrashFEST
DESCRIPTION:Come learn about the waste system in Strathcona County! \nEnjoy some of these free activities: \n\nAn up close look at one of Strathcona County’s waste trucks\nInteractive games and information booths\n\nAnd so much more! \n*In case of inclement weather\, the event may be cancelled. Check Strathcona County’s website or social media the day of the event.
URL:https://rescuefood.ca/event/trashfest/
LOCATION:Archbishop Jordan Catholic High School – East Parking Lot\, 4001 Emerald Drive\, Sherwood Park\, AB\, T8H 0P5\, Canada
CATEGORIES:In Our Community
END:VEVENT
END:VCALENDAR