BEGIN:VCALENDAR
VERSION:2.0
PRODID:-//Leftovers Foundation - ECPv6.15.20//NONSGML v1.0//EN
CALSCALE:GREGORIAN
METHOD:PUBLISH
X-ORIGINAL-URL:https://rescuefood.ca
X-WR-CALDESC:Events for Leftovers Foundation
REFRESH-INTERVAL;VALUE=DURATION:PT1H
X-Robots-Tag:noindex
X-PUBLISHED-TTL:PT1H
BEGIN:VTIMEZONE
TZID:America/Winnipeg
BEGIN:DAYLIGHT
TZOFFSETFROM:-0600
TZOFFSETTO:-0500
TZNAME:CDT
DTSTART:20240310T080000
END:DAYLIGHT
BEGIN:STANDARD
TZOFFSETFROM:-0500
TZOFFSETTO:-0600
TZNAME:CST
DTSTART:20241103T070000
END:STANDARD
BEGIN:DAYLIGHT
TZOFFSETFROM:-0600
TZOFFSETTO:-0500
TZNAME:CDT
DTSTART:20250309T080000
END:DAYLIGHT
BEGIN:STANDARD
TZOFFSETFROM:-0500
TZOFFSETTO:-0600
TZNAME:CST
DTSTART:20251102T070000
END:STANDARD
BEGIN:DAYLIGHT
TZOFFSETFROM:-0600
TZOFFSETTO:-0500
TZNAME:CDT
DTSTART:20260308T080000
END:DAYLIGHT
BEGIN:STANDARD
TZOFFSETFROM:-0500
TZOFFSETTO:-0600
TZNAME:CST
DTSTART:20261101T070000
END:STANDARD
END:VTIMEZONE
BEGIN:VEVENT
DTSTART;TZID=America/Winnipeg:20250507T190000
DTEND;TZID=America/Winnipeg:20250507T210000
DTSTAMP:20260420T044833
CREATED:20250505T205548Z
LAST-MODIFIED:20250505T205548Z
UID:9923-1746644400-1746651600@rescuefood.ca
SUMMARY:Compost Week Celebration at The Forks
DESCRIPTION:We’re joining The Forks on May 7th for an evening dedicated to compost!\n\nThe Forks is hosting a panel discussion at 7pm with:\n\nJoel Penner (co-producer of WROUGHT)\nAnna Sigrithur (co-producer of WROUGHT)\nKarrie Blackburn (Compost Winnipeg)\nJacob Harvey (masters student\, U of M)\n\n\nThe panel will be moderated by Dr. Joe Ackerman\, (Manager of the Sustainability in Action Facility\, U of M).\n\nA screening of the film WROUGHT takes place at 8pm.\n\nAfter the screening\, there will be an info booth set up by Compost Winnipeg\, a Compost Giveaway and you’ll have the opportunity to see The Forks’ own compost through Joel’s microscope!\n\nRegister for your free tickets here.\n\nFind the event in the second floor event space\, room 201\, next to dconstruct.\nTime: 6:30pm \nLocation: The Event Space (2nd floor\, The Forks Market)
URL:https://rescuefood.ca/event/compost-week-celebration-at-the-forks/
LOCATION:The Event Space (2nd Floor\, The Forks Market)\, 1 Forks Market Rd\, Winnipeg\, MB\, R3C 4L9\, Canada
CATEGORIES:In Our Community
END:VEVENT
END:VCALENDAR