BEGIN:VCALENDAR
VERSION:2.0
PRODID:-//Leftovers Foundation - ECPv6.15.20//NONSGML v1.0//EN
CALSCALE:GREGORIAN
METHOD:PUBLISH
X-ORIGINAL-URL:https://rescuefood.ca
X-WR-CALDESC:Events for Leftovers Foundation
REFRESH-INTERVAL;VALUE=DURATION:PT1H
X-Robots-Tag:noindex
X-PUBLISHED-TTL:PT1H
BEGIN:VTIMEZONE
TZID:America/Edmonton
BEGIN:DAYLIGHT
TZOFFSETFROM:-0700
TZOFFSETTO:-0600
TZNAME:MDT
DTSTART:20230312T090000
END:DAYLIGHT
BEGIN:STANDARD
TZOFFSETFROM:-0600
TZOFFSETTO:-0700
TZNAME:MST
DTSTART:20231105T080000
END:STANDARD
BEGIN:DAYLIGHT
TZOFFSETFROM:-0700
TZOFFSETTO:-0600
TZNAME:MDT
DTSTART:20240310T090000
END:DAYLIGHT
BEGIN:STANDARD
TZOFFSETFROM:-0600
TZOFFSETTO:-0700
TZNAME:MST
DTSTART:20241103T080000
END:STANDARD
BEGIN:DAYLIGHT
TZOFFSETFROM:-0700
TZOFFSETTO:-0600
TZNAME:MDT
DTSTART:20250309T090000
END:DAYLIGHT
BEGIN:STANDARD
TZOFFSETFROM:-0600
TZOFFSETTO:-0700
TZNAME:MST
DTSTART:20251102T080000
END:STANDARD
END:VTIMEZONE
BEGIN:VEVENT
DTSTART;TZID=America/Edmonton:20240515T173000
DTEND;TZID=America/Edmonton:20240515T183000
DTSTAMP:20260421T050134
CREATED:20240411T220044Z
LAST-MODIFIED:20240411T220044Z
UID:8537-1715794200-1715797800@rescuefood.ca
SUMMARY:Leftovers Annual General Meeting 2024
DESCRIPTION:Listen in and interact with us as we discuss our year in review\, our accomplishments\, and how we helped our communities. After the AGM\, we will stay on the call to answer any questions. \nYou can sign up to reserve a spot at https://us06web.zoom.us/meeting/register/tZAvcOCpqz4uGNAVQ_B6h-VdSVZz1iK5C9DM
URL:https://rescuefood.ca/event/leftovers-annual-general-meeting-2024/
END:VEVENT
END:VCALENDAR